BEGIN:VCALENDAR
VERSION:2.0
PRODID:-//Southwell &amp; Nottingham Bellringing - ECPv4.9.14//NONSGML v1.0//EN
CALSCALE:GREGORIAN
METHOD:PUBLISH
X-WR-CALNAME:Southwell &amp; Nottingham Bellringing
X-ORIGINAL-URL:https://southwelldg.org.uk
X-WR-CALDESC:Events for Southwell &amp; Nottingham Bellringing
BEGIN:VTIMEZONE
TZID:Europe/London
BEGIN:DAYLIGHT
TZOFFSETFROM:+0000
TZOFFSETTO:+0100
TZNAME:BST
DTSTART:20260329T010000
END:DAYLIGHT
BEGIN:STANDARD
TZOFFSETFROM:+0100
TZOFFSETTO:+0000
TZNAME:GMT
DTSTART:20261025T010000
END:STANDARD
END:VTIMEZONE
BEGIN:VEVENT
DTSTART;TZID=Europe/London:20260411T140000
DTEND;TZID=Europe/London:20260411T160000
DTSTAMP:20260420T043958
CREATED:20260205T162255Z
LAST-MODIFIED:20260205T162255Z
UID:3680-1775916000-1775923200@southwelldg.org.uk
SUMMARY:Mansfield District Crawford Cup Heat
DESCRIPTION:
URL:https://southwelldg.org.uk/event/mansfield-district-crawford-cup-heat/
LOCATION:Kirkby in Ashfield
CATEGORIES:Mansfield Events
END:VEVENT
END:VCALENDAR